BEGIN:VCALENDAR
VERSION:2.0
CALSCALE:GREGORIAN
PRODID:-//Diputació de Barcelona//DibaCMS//EN
BEGIN:VEVENT
UID:854
DTSTAMP:20260423T133106
DTSTART:20180527T090000
DTEND:20180527T140000
SUMMARY:9 Trobada de cotxes clàssics
LOCATION:
METHOD:PUBLISH
X-WR-CALNAME:vallgorguina@vallgorguina.cat
X-WR-TIMEZONE:Europe/Madrid
DESCRIPTION:
URI:https://www.vallgorguina.cat/actualitat/agenda/9-trobada-de-cotxes-classics.html
CLASS:PUBLIC
END:VEVENT
END:VCALENDAR
