BEGIN:VCALENDAR
VERSION:2.0
CALSCALE:GREGORIAN
PRODID:-//Diputació de Barcelona//DibaCMS//EN
BEGIN:VEVENT
UID:857
DTSTAMP:20260423T133327
DTSTART:20180602T100000
DTEND:20180602T140000
SUMMARY:Taller de pilates dirigit a nens i famílies (AMPA ESCOLA)
LOCATION:
METHOD:PUBLISH
X-WR-CALNAME:vallgorguina@vallgorguina.cat
X-WR-TIMEZONE:Europe/Madrid
DESCRIPTION:
URI:https://www.vallgorguina.cat/actualitat/agenda/taller-de-pilates-dirigit-a-nens-i-families-ampa-escola.html
CLASS:PUBLIC
END:VEVENT
END:VCALENDAR
