BEGIN:VCALENDAR
VERSION:2.0
CALSCALE:GREGORIAN
PRODID:-//Diputació de Barcelona//DibaCMS//EN
BEGIN:VEVENT
UID:858
DTSTAMP:20260423T120020
DTSTART:20180610T113000
DTEND:20180610T130000
SUMMARY:Dia Solidari amb Rwanda amb en Ramon Godino
LOCATION:
METHOD:PUBLISH
X-WR-CALNAME:vallgorguina@vallgorguina.cat
X-WR-TIMEZONE:Europe/Madrid
DESCRIPTION:
URI:https://www.vallgorguina.cat/actualitat/agenda/dia-solidari-amb-rwanda-amb-en-ramon-godino.html
CLASS:PUBLIC
END:VEVENT
END:VCALENDAR
