BEGIN:VCALENDAR
VERSION:2.0
CALSCALE:GREGORIAN
PRODID:-//Diputació de Barcelona//DibaCMS//EN
BEGIN:VEVENT
UID:8591
DTSTAMP:20260420T071013
DTSTART:20200526T170000
DTEND:20200526T190000
SUMMARY:L’Hora del bibliobús
LOCATION:
METHOD:PUBLISH
X-WR-CALNAME:vallgorguina@vallgorguina.cat
X-WR-TIMEZONE:Europe/Madrid
DESCRIPTION:
URI:https://www.vallgorguina.cat/actualitat/agenda/8591-lhora-del-bibliobus.html
CLASS:PUBLIC
END:VEVENT
END:VCALENDAR
