BEGIN:VCALENDAR
VERSION:2.0
CALSCALE:GREGORIAN
PRODID:-//Diputació de Barcelona//DibaCMS//EN
BEGIN:VEVENT
UID:8593
DTSTAMP:20260420T030836
DTSTART:20200602T170000
DTEND:20200602T190000
SUMMARY:L’Hora del bibliobús
LOCATION:
METHOD:PUBLISH
X-WR-CALNAME:vallgorguina@vallgorguina.cat
X-WR-TIMEZONE:Europe/Madrid
DESCRIPTION:
URI:https://www.vallgorguina.cat/actualitat/agenda/8593-lhora-del-bibliobus.html
CLASS:PUBLIC
END:VEVENT
END:VCALENDAR
