BEGIN:VCALENDAR
VERSION:2.0
CALSCALE:GREGORIAN
PRODID:-//Diputació de Barcelona//DibaCMS//EN
BEGIN:VEVENT
UID:8596
DTSTAMP:20260420T051524
DTSTART:20200611T110000
DTEND:20200611T120000
SUMMARY:L’Hora del bibliobús
LOCATION:
METHOD:PUBLISH
X-WR-CALNAME:vallgorguina@vallgorguina.cat
X-WR-TIMEZONE:Europe/Madrid
DESCRIPTION:
URI:https://www.vallgorguina.cat/actualitat/agenda/8596-lhora-del-bibliobus.html
CLASS:PUBLIC
END:VEVENT
END:VCALENDAR
