BEGIN:VCALENDAR
VERSION:2.0
CALSCALE:GREGORIAN
PRODID:-//Diputació de Barcelona//DibaCMS//EN
BEGIN:VEVENT
UID:861
DTSTAMP:20260423T083140
DTSTART:20180616T220000
DTEND:20180616T235000
SUMMARY:Opera del Liceu a la Sala d’exposicions
LOCATION:
METHOD:PUBLISH
X-WR-CALNAME:vallgorguina@vallgorguina.cat
X-WR-TIMEZONE:Europe/Madrid
DESCRIPTION:
URI:https://www.vallgorguina.cat/actualitat/agenda/opera-del-liceu-a-la-sala-dexposicions.html
CLASS:PUBLIC
END:VEVENT
END:VCALENDAR
