BEGIN:VCALENDAR
VERSION:2.0
CALSCALE:GREGORIAN
PRODID:-//Diputació de Barcelona//DibaCMS//EN
BEGIN:VEVENT
UID:8622
DTSTAMP:20260420T070654
DTSTART:20200623T180000
DTEND:20200623T210000
SUMMARY:Flama del Canigó 
LOCATION:
METHOD:PUBLISH
X-WR-CALNAME:vallgorguina@vallgorguina.cat
X-WR-TIMEZONE:Europe/Madrid
DESCRIPTION:
URI:https://www.vallgorguina.cat/actualitat/agenda/flama-del-canigo-.html
CLASS:PUBLIC
END:VEVENT
END:VCALENDAR
