BEGIN:VCALENDAR
VERSION:2.0
CALSCALE:GREGORIAN
PRODID:-//Diputació de Barcelona//DibaCMS//EN
BEGIN:VEVENT
UID:8623
DTSTAMP:20260420T070608
DTSTART:20200703T220000
DTEND:20200703T235900
SUMMARY:Caminada sota la llum de la Lluna
LOCATION:
METHOD:PUBLISH
X-WR-CALNAME:vallgorguina@vallgorguina.cat
X-WR-TIMEZONE:Europe/Madrid
DESCRIPTION:
URI:https://www.vallgorguina.cat/actualitat/agenda/8623-caminada-sota-la-llum-de-la-lluna.html
CLASS:PUBLIC
END:VEVENT
END:VCALENDAR
