BEGIN:VCALENDAR
VERSION:2.0
CALSCALE:GREGORIAN
PRODID:-//Diputació de Barcelona//DibaCMS//EN
BEGIN:VEVENT
UID:8625
DTSTAMP:20260420T070500
DTSTART:20200628T183000
DTEND:20200628T200000
SUMMARY:Activitat Viu el Parc 2020
LOCATION:
METHOD:PUBLISH
X-WR-CALNAME:vallgorguina@vallgorguina.cat
X-WR-TIMEZONE:Europe/Madrid
DESCRIPTION:
URI:https://www.vallgorguina.cat/actualitat/agenda/8625-activitat-viu-el-parc-2020.html
CLASS:PUBLIC
END:VEVENT
END:VCALENDAR
