BEGIN:VCALENDAR
VERSION:2.0
CALSCALE:GREGORIAN
PRODID:-//Diputació de Barcelona//DibaCMS//EN
BEGIN:VEVENT
UID:8626
DTSTAMP:20260420T051719
DTSTART:20200707T000000
DTEND:20200707T000000
SUMMARY:Raconet
LOCATION:
METHOD:PUBLISH
X-WR-CALNAME:vallgorguina@vallgorguina.cat
X-WR-TIMEZONE:Europe/Madrid
DESCRIPTION:
URI:https://www.vallgorguina.cat/actualitat/agenda/8626-raconet.html
CLASS:PUBLIC
END:VEVENT
END:VCALENDAR
