BEGIN:VCALENDAR
VERSION:2.0
CALSCALE:GREGORIAN
PRODID:-//Diputació de Barcelona//DibaCMS//EN
BEGIN:VEVENT
UID:864
DTSTAMP:20260423T080436
DTSTART:20180629T220000
DTEND:20180629T235000
SUMMARY:Caminada Sota la llum de la lluna
LOCATION:
METHOD:PUBLISH
X-WR-CALNAME:vallgorguina@vallgorguina.cat
X-WR-TIMEZONE:Europe/Madrid
DESCRIPTION:
URI:https://www.vallgorguina.cat/actualitat/agenda/864-caminada-sota-la-llum-de-la-lluna.html
CLASS:PUBLIC
END:VEVENT
END:VCALENDAR
