BEGIN:VCALENDAR
VERSION:2.0
CALSCALE:GREGORIAN
PRODID:-//Diputació de Barcelona//DibaCMS//EN
BEGIN:VEVENT
UID:8654
DTSTAMP:20260420T052812
DTSTART:20200706T000000
DTEND:20200711T000000
SUMMARY:Taller per horts Autoabastiment segons els principis de l´Agricultura Biodinàmica
LOCATION:
METHOD:PUBLISH
X-WR-CALNAME:vallgorguina@vallgorguina.cat
X-WR-TIMEZONE:Europe/Madrid
DESCRIPTION:
URI:https://www.vallgorguina.cat/actualitat/agenda/taller-per-horts-autoabastiment-segons-els-principis-de-lagricultura-biodinamica.html
CLASS:PUBLIC
END:VEVENT
END:VCALENDAR
