BEGIN:VCALENDAR
VERSION:2.0
CALSCALE:GREGORIAN
PRODID:-//Diputació de Barcelona//DibaCMS//EN
BEGIN:VEVENT
UID:8656
DTSTAMP:20260420T070328
DTSTART:20200720T100000
DTEND:20200724T120000
SUMMARY:Impro Teatral
LOCATION:
METHOD:PUBLISH
X-WR-CALNAME:vallgorguina@vallgorguina.cat
X-WR-TIMEZONE:Europe/Madrid
DESCRIPTION:
URI:https://www.vallgorguina.cat/actualitat/agenda/impro-teatral.html
CLASS:PUBLIC
END:VEVENT
END:VCALENDAR
