BEGIN:VCALENDAR
VERSION:2.0
CALSCALE:GREGORIAN
PRODID:-//Diputació de Barcelona//DibaCMS//EN
BEGIN:VEVENT
UID:866
DTSTAMP:20260423T132928
DTSTART:20180708T083000
DTEND:20180708T120000
SUMMARY:Excursió a Cal Peraire
LOCATION:
METHOD:PUBLISH
X-WR-CALNAME:vallgorguina@vallgorguina.cat
X-WR-TIMEZONE:Europe/Madrid
DESCRIPTION:
URI:https://www.vallgorguina.cat/actualitat/agenda/excursio-a-cal-peraire.html
CLASS:PUBLIC
END:VEVENT
END:VCALENDAR
