BEGIN:VCALENDAR
VERSION:2.0
CALSCALE:GREGORIAN
PRODID:-//Diputació de Barcelona//DibaCMS//EN
BEGIN:VEVENT
UID:8668
DTSTAMP:20260422T145435
DTSTART:20200723T190000
DTEND:20200723T220000
SUMMARY:Contes a dins la Capsa
LOCATION:
METHOD:PUBLISH
X-WR-CALNAME:vallgorguina@vallgorguina.cat
X-WR-TIMEZONE:Europe/Madrid
DESCRIPTION:
URI:https://www.vallgorguina.cat/actualitat/agenda/contes-a-dins-la-capsa.html
CLASS:PUBLIC
END:VEVENT
END:VCALENDAR
