BEGIN:VCALENDAR
VERSION:2.0
CALSCALE:GREGORIAN
PRODID:-//Diputació de Barcelona//DibaCMS//EN
BEGIN:VEVENT
UID:8669
DTSTAMP:20260420T090221
DTSTART:20200726T080000
DTEND:20200726T120000
SUMMARY:Excursió a les Masies
LOCATION:
METHOD:PUBLISH
X-WR-CALNAME:vallgorguina@vallgorguina.cat
X-WR-TIMEZONE:Europe/Madrid
DESCRIPTION:
URI:https://www.vallgorguina.cat/actualitat/agenda/excursio-a-les-masies.html
CLASS:PUBLIC
END:VEVENT
END:VCALENDAR
