BEGIN:VCALENDAR
VERSION:2.0
CALSCALE:GREGORIAN
PRODID:-//Diputació de Barcelona//DibaCMS//EN
BEGIN:VEVENT
UID:868
DTSTAMP:20260425T123757
DTSTART:20180721T170000
DTEND:20180721T200000
SUMMARY:Festa d’estiu de Fent Pinya, Tarda de jocs tradicionals.
LOCATION:
METHOD:PUBLISH
X-WR-CALNAME:vallgorguina@vallgorguina.cat
X-WR-TIMEZONE:Europe/Madrid
DESCRIPTION:
URI:https://www.vallgorguina.cat/actualitat/agenda/festa-destiu-de-fent-pinya-tarda-de-jocs-tradicionals.html
CLASS:PUBLIC
END:VEVENT
END:VCALENDAR
