BEGIN:VCALENDAR
VERSION:2.0
CALSCALE:GREGORIAN
PRODID:-//Diputació de Barcelona//DibaCMS//EN
BEGIN:VEVENT
UID:8688
DTSTAMP:20260420T153755
DTSTART:20200828T170000
DTEND:20200828T200000
SUMMARY:Tobogan aquàtic de 75 metres i doble carril   (ANUL·LAT)
LOCATION:Al c/Pi Florit 
METHOD:PUBLISH
X-WR-CALNAME:vallgorguina@vallgorguina.cat
X-WR-TIMEZONE:Europe/Madrid
DESCRIPTION:Cartell informatiu

URI:https://www.vallgorguina.cat/actualitat/agenda/tobogan-aquatic-de-75-metres-i-doble-carril-anullat.html
CLASS:PUBLIC
END:VEVENT
END:VCALENDAR
