BEGIN:VCALENDAR
VERSION:2.0
CALSCALE:GREGORIAN
PRODID:-//Diputació de Barcelona//DibaCMS//EN
BEGIN:VEVENT
UID:869
DTSTAMP:20260423T120117
DTSTART:20180721T213000
DTEND:20180721T235000
SUMMARY:8è Aniversari Fetillera
LOCATION:
METHOD:PUBLISH
X-WR-CALNAME:vallgorguina@vallgorguina.cat
X-WR-TIMEZONE:Europe/Madrid
DESCRIPTION:
URI:https://www.vallgorguina.cat/actualitat/agenda/8e-aniversari-fetillera.html
CLASS:PUBLIC
END:VEVENT
END:VCALENDAR
