BEGIN:VCALENDAR
VERSION:2.0
CALSCALE:GREGORIAN
PRODID:-//Diputació de Barcelona//DibaCMS//EN
BEGIN:VEVENT
UID:8690
DTSTAMP:20260420T092428
DTSTART:20200818T170000
DTEND:20200818T190000
SUMMARY:Futbol Sala Infantil 2020
LOCATION:
METHOD:PUBLISH
X-WR-CALNAME:vallgorguina@vallgorguina.cat
X-WR-TIMEZONE:Europe/Madrid
DESCRIPTION:
URI:https://www.vallgorguina.cat/actualitat/agenda/8690-futbol-sala-infantil-2020.html
CLASS:PUBLIC
END:VEVENT
END:VCALENDAR
