BEGIN:VCALENDAR
VERSION:2.0
CALSCALE:GREGORIAN
PRODID:-//Diputació de Barcelona//DibaCMS//EN
BEGIN:VEVENT
UID:8691
DTSTAMP:20260420T150254
DTSTART:20200820T170000
DTEND:20200820T190000
SUMMARY:Futbol Sala Infantil 2020 (Suspès)
LOCATION:
METHOD:PUBLISH
X-WR-CALNAME:vallgorguina@vallgorguina.cat
X-WR-TIMEZONE:Europe/Madrid
DESCRIPTION:
URI:https://www.vallgorguina.cat/actualitat/agenda/futbol-sala-infantil-2020-suspes.html
CLASS:PUBLIC
END:VEVENT
END:VCALENDAR
