BEGIN:VCALENDAR
VERSION:2.0
CALSCALE:GREGORIAN
PRODID:-//Diputació de Barcelona//DibaCMS//EN
BEGIN:VEVENT
UID:8698
DTSTAMP:20260420T131906
DTSTART:20200924T170000
DTEND:20200924T180000
SUMMARY:La màgia dels llibres
LOCATION:
METHOD:PUBLISH
X-WR-CALNAME:vallgorguina@vallgorguina.cat
X-WR-TIMEZONE:Europe/Madrid
DESCRIPTION:Un espectacle sorprenent on es barreja màgia i lectura, llibres i fantasia. Ens endinsem al món de l’il·lusionisme i la literatura a través de contes, rondalles i imaginació. Viu un espectacle únic amb… La màgia dels llibres!!!

URI:https://www.vallgorguina.cat/actualitat/agenda/la-magia-dels-llibres.html
CLASS:PUBLIC
END:VEVENT
END:VCALENDAR
