BEGIN:VCALENDAR
VERSION:2.0
CALSCALE:GREGORIAN
PRODID:-//Diputació de Barcelona//DibaCMS//EN
BEGIN:VEVENT
UID:870
DTSTAMP:20260423T081721
DTSTART:20180727T000100
DTEND:20180729T235000
SUMMARY:Festa Major de Canada Parc
LOCATION:
METHOD:PUBLISH
X-WR-CALNAME:vallgorguina@vallgorguina.cat
X-WR-TIMEZONE:Europe/Madrid
DESCRIPTION:
URI:https://www.vallgorguina.cat/actualitat/agenda/870-festa-major-de-canada-parc.html
CLASS:PUBLIC
END:VEVENT
END:VCALENDAR
