BEGIN:VCALENDAR
VERSION:2.0
CALSCALE:GREGORIAN
PRODID:-//Diputació de Barcelona//DibaCMS//EN
BEGIN:VEVENT
UID:8703
DTSTAMP:20260421T005419
DTSTART:20200925T183000
DTEND:20200925T200000
SUMMARY:Ioga al bosc
LOCATION:
METHOD:PUBLISH
X-WR-CALNAME:vallgorguina@vallgorguina.cat
X-WR-TIMEZONE:Europe/Madrid
DESCRIPTION:
URI:https://www.vallgorguina.cat/actualitat/agenda/ioga-al-bosc.html
CLASS:PUBLIC
END:VEVENT
END:VCALENDAR
