BEGIN:VCALENDAR
VERSION:2.0
CALSCALE:GREGORIAN
PRODID:-//Diputació de Barcelona//DibaCMS//EN
BEGIN:VEVENT
UID:8704
DTSTAMP:20260421T005617
DTSTART:20200925T203000
DTEND:20200925T220000
SUMMARY:Circ
LOCATION:
METHOD:PUBLISH
X-WR-CALNAME:vallgorguina@vallgorguina.cat
X-WR-TIMEZONE:Europe/Madrid
DESCRIPTION:
URI:https://www.vallgorguina.cat/actualitat/agenda/circ.html
CLASS:PUBLIC
END:VEVENT
END:VCALENDAR
