BEGIN:VCALENDAR
VERSION:2.0
CALSCALE:GREGORIAN
PRODID:-//Diputació de Barcelona//DibaCMS//EN
BEGIN:VEVENT
UID:8709
DTSTAMP:20260420T165135
DTSTART:20200924T000000
DTEND:20200926T235900
SUMMARY:Food Truks
LOCATION:
METHOD:PUBLISH
X-WR-CALNAME:vallgorguina@vallgorguina.cat
X-WR-TIMEZONE:Europe/Madrid
DESCRIPTION:
URI:https://www.vallgorguina.cat/actualitat/agenda/food-truks.html
CLASS:PUBLIC
END:VEVENT
END:VCALENDAR
