BEGIN:VCALENDAR
VERSION:2.0
CALSCALE:GREGORIAN
PRODID:-//Diputació de Barcelona//DibaCMS//EN
BEGIN:VEVENT
UID:871
DTSTAMP:20260423T101136
DTSTART:20180728T193000
DTEND:20180728T210000
SUMMARY:Música i tapes a la plaça de la Vila
LOCATION:
METHOD:PUBLISH
X-WR-CALNAME:vallgorguina@vallgorguina.cat
X-WR-TIMEZONE:Europe/Madrid
DESCRIPTION:
URI:https://www.vallgorguina.cat/actualitat/agenda/871-musica-i-tapes-a-la-placa-de-la-vila.html
CLASS:PUBLIC
END:VEVENT
END:VCALENDAR
