BEGIN:VCALENDAR
VERSION:2.0
CALSCALE:GREGORIAN
PRODID:-//Diputació de Barcelona//DibaCMS//EN
BEGIN:VEVENT
UID:872
DTSTAMP:20260423T095343
DTSTART:20180728T223000
DTEND:20180728T235000
SUMMARY:Cantada d’havaneres
LOCATION:
METHOD:PUBLISH
X-WR-CALNAME:vallgorguina@vallgorguina.cat
X-WR-TIMEZONE:Europe/Madrid
DESCRIPTION:
URI:https://www.vallgorguina.cat/actualitat/agenda/cantada-dhavaneres.html
CLASS:PUBLIC
END:VEVENT
END:VCALENDAR
