BEGIN:VCALENDAR
VERSION:2.0
CALSCALE:GREGORIAN
PRODID:-//Diputació de Barcelona//DibaCMS//EN
BEGIN:VEVENT
UID:8720
DTSTAMP:20260420T164316
DTSTART:20200908T170000
DTEND:20200908T183000
SUMMARY:El Bibliobús torna a Vallgorguina
LOCATION:
METHOD:PUBLISH
X-WR-CALNAME:vallgorguina@vallgorguina.cat
X-WR-TIMEZONE:Europe/Madrid
DESCRIPTION:
URI:https://www.vallgorguina.cat/actualitat/agenda/8720-el-bibliobus-torna-a-vallgorguina.html
CLASS:PUBLIC
END:VEVENT
END:VCALENDAR
