BEGIN:VCALENDAR
VERSION:2.0
CALSCALE:GREGORIAN
PRODID:-//Diputació de Barcelona//DibaCMS//EN
BEGIN:VEVENT
UID:8726
DTSTAMP:20260422T111348
DTSTART:20200829T170000
DTEND:20200829T190000
SUMMARY:Cloenda Futbol Infantil
LOCATION:
METHOD:PUBLISH
X-WR-CALNAME:vallgorguina@vallgorguina.cat
X-WR-TIMEZONE:Europe/Madrid
DESCRIPTION:
URI:https://www.vallgorguina.cat/actualitat/agenda/8726-cloenda-futbol-infantil.html
CLASS:PUBLIC
END:VEVENT
END:VCALENDAR
