BEGIN:VCALENDAR
VERSION:2.0
CALSCALE:GREGORIAN
PRODID:-//Diputació de Barcelona//DibaCMS//EN
BEGIN:VEVENT
UID:874
DTSTAMP:20260423T102238
DTSTART:20180616T110000
DTEND:20180616T120000
SUMMARY:Concert de fi de curs Aula de música
LOCATION:
METHOD:PUBLISH
X-WR-CALNAME:vallgorguina@vallgorguina.cat
X-WR-TIMEZONE:Europe/Madrid
DESCRIPTION:
URI:https://www.vallgorguina.cat/actualitat/agenda/concert-de-fi-de-curs-aula-de-musica.html
CLASS:PUBLIC
END:VEVENT
END:VCALENDAR
