BEGIN:VCALENDAR
VERSION:2.0
CALSCALE:GREGORIAN
PRODID:-//Diputació de Barcelona//DibaCMS//EN
BEGIN:VEVENT
UID:8745
DTSTAMP:20260420T150643
DTSTART:20200913T000000
DTEND:20200921T235900
SUMMARY:Inscripcions Curs Monitor d'Educació Ambiental
LOCATION:
METHOD:PUBLISH
X-WR-CALNAME:vallgorguina@vallgorguina.cat
X-WR-TIMEZONE:Europe/Madrid
DESCRIPTION:
URI:https://www.vallgorguina.cat/actualitat/agenda/inscripcions-curs-monitor-deducacio-ambiental.html
CLASS:PUBLIC
END:VEVENT
END:VCALENDAR
