BEGIN:VCALENDAR
VERSION:2.0
CALSCALE:GREGORIAN
PRODID:-//Diputació de Barcelona//DibaCMS//EN
BEGIN:VEVENT
UID:8746
DTSTAMP:20260420T150436
DTSTART:20200924T000000
DTEND:20200927T235900
SUMMARY:Setembre a Vallgorguina
LOCATION:
METHOD:PUBLISH
X-WR-CALNAME:vallgorguina@vallgorguina.cat
X-WR-TIMEZONE:Europe/Madrid
DESCRIPTION:
URI:https://www.vallgorguina.cat/actualitat/agenda/setembre-a-vallgorguina.html
CLASS:PUBLIC
END:VEVENT
END:VCALENDAR
