BEGIN:VCALENDAR
VERSION:2.0
CALSCALE:GREGORIAN
PRODID:-//Diputació de Barcelona//DibaCMS//EN
BEGIN:VEVENT
UID:875
DTSTAMP:20260423T115545
DTSTART:20180616T200000
DTEND:20180616T210000
SUMMARY:Festival de Patinatge
LOCATION:
METHOD:PUBLISH
X-WR-CALNAME:vallgorguina@vallgorguina.cat
X-WR-TIMEZONE:Europe/Madrid
DESCRIPTION:
URI:https://www.vallgorguina.cat/actualitat/agenda/875-festival-de-patinatge.html
CLASS:PUBLIC
END:VEVENT
END:VCALENDAR
