BEGIN:VCALENDAR
VERSION:2.0
CALSCALE:GREGORIAN
PRODID:-//Diputació de Barcelona//DibaCMS//EN
BEGIN:VEVENT
UID:8751
DTSTAMP:20260420T184907
DTSTART:20200918T000000
DTEND:20200918T000000
SUMMARY:Partits al Camp de Futbol de Vallgorguina
LOCATION:
METHOD:PUBLISH
X-WR-CALNAME:vallgorguina@vallgorguina.cat
X-WR-TIMEZONE:Europe/Madrid
DESCRIPTION:
URI:https://www.vallgorguina.cat/actualitat/agenda/8751-partits-al-camp-de-futbol-de-vallgorguina.html
CLASS:PUBLIC
END:VEVENT
END:VCALENDAR
