BEGIN:VCALENDAR
VERSION:2.0
CALSCALE:GREGORIAN
PRODID:-//Diputació de Barcelona//DibaCMS//EN
BEGIN:VEVENT
UID:8756
DTSTAMP:20260420T150614
DTSTART:20200924T110000
DTEND:20200927T200000
SUMMARY:Exposició Fotogràfica
LOCATION:
METHOD:PUBLISH
X-WR-CALNAME:vallgorguina@vallgorguina.cat
X-WR-TIMEZONE:Europe/Madrid
DESCRIPTION:
URI:https://www.vallgorguina.cat/actualitat/agenda/exposicio-fotografica.html
CLASS:PUBLIC
END:VEVENT
END:VCALENDAR
