BEGIN:VCALENDAR
VERSION:2.0
CALSCALE:GREGORIAN
PRODID:-//Diputació de Barcelona//DibaCMS//EN
BEGIN:VEVENT
UID:8769
DTSTAMP:20260421T002447
DTSTART:20201016T190000
DTEND:20201016T210000
SUMMARY:Xerrada sobre la energia neta i sostenible
LOCATION:
METHOD:PUBLISH
X-WR-CALNAME:vallgorguina@vallgorguina.cat
X-WR-TIMEZONE:Europe/Madrid
DESCRIPTION:
URI:https://www.vallgorguina.cat/actualitat/agenda/8769-xerrada-sobre-la-energia-neta-i-sostenible.html
CLASS:PUBLIC
END:VEVENT
END:VCALENDAR
