BEGIN:VCALENDAR
VERSION:2.0
CALSCALE:GREGORIAN
PRODID:-//Diputació de Barcelona//DibaCMS//EN
BEGIN:VEVENT
UID:8770
DTSTAMP:20260422T190341
DTSTART:20221022T100000
DTEND:20221022T133000
SUMMARY:Taller de Tardor · Conreu Biodinàmic
LOCATION:Vivers Salicrú 
METHOD:PUBLISH
X-WR-CALNAME:vallgorguina@vallgorguina.cat
X-WR-TIMEZONE:Europe/Madrid
DESCRIPTION:
URI:https://www.vallgorguina.cat/actualitat/agenda/taller-de-tardor--conreu-biodinamic.html
CLASS:PUBLIC
END:VEVENT
END:VCALENDAR
