BEGIN:VCALENDAR
VERSION:2.0
CALSCALE:GREGORIAN
PRODID:-//Diputació de Barcelona//DibaCMS//EN
BEGIN:VEVENT
UID:8775
DTSTAMP:20260421T005256
DTSTART:20201107T161500
DTEND:20201107T190000
SUMMARY:Comença una nova temporada de Cinema Infantil en Català a les Sales Ocine
LOCATION:
METHOD:PUBLISH
X-WR-CALNAME:vallgorguina@vallgorguina.cat
X-WR-TIMEZONE:Europe/Madrid
DESCRIPTION:
URI:https://www.vallgorguina.cat/actualitat/agenda/8775-comenca-una-nova-temporada-de-cinema-infantil-en-catala-a-les-sales-ocine.html
CLASS:PUBLIC
END:VEVENT
END:VCALENDAR
