BEGIN:VCALENDAR
VERSION:2.0
CALSCALE:GREGORIAN
PRODID:-//Diputació de Barcelona//DibaCMS//EN
BEGIN:VEVENT
UID:8785
DTSTAMP:20260420T231017
DTSTART:20201103T000000
DTEND:20201103T000000
SUMMARY:Raconet
LOCATION:
METHOD:PUBLISH
X-WR-CALNAME:vallgorguina@vallgorguina.cat
X-WR-TIMEZONE:Europe/Madrid
DESCRIPTION:
URI:https://www.vallgorguina.cat/actualitat/agenda/8785-raconet.html
CLASS:PUBLIC
END:VEVENT
END:VCALENDAR
