BEGIN:VCALENDAR
VERSION:2.0
CALSCALE:GREGORIAN
PRODID:-//Diputació de Barcelona//DibaCMS//EN
BEGIN:VEVENT
UID:8789
DTSTAMP:20260420T230944
DTSTART:20201122T170000
DTEND:20201122T210000
SUMMARY:Cicle de Teatre Feminista (AJORNAT)
LOCATION:
METHOD:PUBLISH
X-WR-CALNAME:vallgorguina@vallgorguina.cat
X-WR-TIMEZONE:Europe/Madrid
DESCRIPTION:
URI:https://www.vallgorguina.cat/actualitat/agenda/cicle-de-teatre-feminista-ajornat.html
CLASS:PUBLIC
END:VEVENT
END:VCALENDAR
