BEGIN:VCALENDAR
VERSION:2.0
CALSCALE:GREGORIAN
PRODID:-//Diputació de Barcelona//DibaCMS//EN
BEGIN:VEVENT
UID:880
DTSTAMP:20260423T115208
DTSTART:20180617T090000
DTEND:20180617T130000
SUMMARY:Caminem per l'ELA
LOCATION:
METHOD:PUBLISH
X-WR-CALNAME:vallgorguina@vallgorguina.cat
X-WR-TIMEZONE:Europe/Madrid
DESCRIPTION:
URI:https://www.vallgorguina.cat/actualitat/agenda/caminem-per-lela.html
CLASS:PUBLIC
END:VEVENT
END:VCALENDAR
