BEGIN:VCALENDAR
VERSION:2.0
CALSCALE:GREGORIAN
PRODID:-//Diputació de Barcelona//DibaCMS//EN
BEGIN:VEVENT
UID:8817
DTSTAMP:20260420T230700
DTSTART:20201103T160000
DTEND:20201103T180000
SUMMARY:Bibliobús
LOCATION:
METHOD:PUBLISH
X-WR-CALNAME:vallgorguina@vallgorguina.cat
X-WR-TIMEZONE:Europe/Madrid
DESCRIPTION:
URI:https://www.vallgorguina.cat/actualitat/agenda/8817-bibliobus.html
CLASS:PUBLIC
END:VEVENT
END:VCALENDAR
