BEGIN:VCALENDAR
VERSION:2.0
CALSCALE:GREGORIAN
PRODID:-//Diputació de Barcelona//DibaCMS//EN
BEGIN:VEVENT
UID:8818
DTSTAMP:20260420T185159
DTSTART:20201117T160000
DTEND:20201117T170000
SUMMARY:Biblobús amb serveis alternatiu
LOCATION:
METHOD:PUBLISH
X-WR-CALNAME:vallgorguina@vallgorguina.cat
X-WR-TIMEZONE:Europe/Madrid
DESCRIPTION:
URI:https://www.vallgorguina.cat/actualitat/agenda/biblobus-amb-serveis-alternatiu.html
CLASS:PUBLIC
END:VEVENT
END:VCALENDAR
