BEGIN:VCALENDAR
VERSION:2.0
CALSCALE:GREGORIAN
PRODID:-//Diputació de Barcelona//DibaCMS//EN
BEGIN:VEVENT
UID:8841
DTSTAMP:20260421T005049
DTSTART:20201201T160000
DTEND:20201201T180000
SUMMARY:Biblobús
LOCATION:
METHOD:PUBLISH
X-WR-CALNAME:vallgorguina@vallgorguina.cat
X-WR-TIMEZONE:Europe/Madrid
DESCRIPTION:
URI:https://www.vallgorguina.cat/actualitat/agenda/biblobus.html
CLASS:PUBLIC
END:VEVENT
END:VCALENDAR
