BEGIN:VCALENDAR
VERSION:2.0
CALSCALE:GREGORIAN
PRODID:-//Diputació de Barcelona//DibaCMS//EN
BEGIN:VEVENT
UID:8855
DTSTAMP:20260421T024329
DTSTART:20201212T110000
DTEND:20201212T130000
SUMMARY:Encara no tens la Targeta de la Deixalleria?
LOCATION:
METHOD:PUBLISH
X-WR-CALNAME:vallgorguina@vallgorguina.cat
X-WR-TIMEZONE:Europe/Madrid
DESCRIPTION:
URI:https://www.vallgorguina.cat/actualitat/agenda/8855-encara-no-tens-la-targeta-de-la-deixalleria.html
CLASS:PUBLIC
END:VEVENT
END:VCALENDAR
