BEGIN:VCALENDAR
VERSION:2.0
CALSCALE:GREGORIAN
PRODID:-//Diputació de Barcelona//DibaCMS//EN
BEGIN:VEVENT
UID:8861
DTSTAMP:20260421T152013
DTSTART:20201220T110000
DTEND:20201220T150000
SUMMARY:Vallgorguina amb la Marató 2020
LOCATION:
METHOD:PUBLISH
X-WR-CALNAME:vallgorguina@vallgorguina.cat
X-WR-TIMEZONE:Europe/Madrid
DESCRIPTION:
URI:https://www.vallgorguina.cat/actualitat/agenda/8861-vallgorguina-amb-la-marato-2020.html
CLASS:PUBLIC
END:VEVENT
END:VCALENDAR
