BEGIN:VCALENDAR
VERSION:2.0
CALSCALE:GREGORIAN
PRODID:-//Diputació de Barcelona//DibaCMS//EN
BEGIN:VEVENT
UID:887
DTSTAMP:20260423T133553
DTSTART:20180530T190000
DTEND:20180530T193000
SUMMARY:Ple extraordinari
LOCATION:
METHOD:PUBLISH
X-WR-CALNAME:vallgorguina@vallgorguina.cat
X-WR-TIMEZONE:Europe/Madrid
DESCRIPTION:
URI:https://www.vallgorguina.cat/actualitat/agenda/887-ple-extraordinari.html
CLASS:PUBLIC
END:VEVENT
END:VCALENDAR
