BEGIN:VCALENDAR
VERSION:2.0
CALSCALE:GREGORIAN
PRODID:-//Diputació de Barcelona//DibaCMS//EN
BEGIN:VEVENT
UID:8881
DTSTAMP:20260421T022950
DTSTART:20210216T060000
DTEND:20210216T210000
SUMMARY:Raconet
LOCATION:
METHOD:PUBLISH
X-WR-CALNAME:vallgorguina@vallgorguina.cat
X-WR-TIMEZONE:Europe/Madrid
DESCRIPTION:
URI:https://www.vallgorguina.cat/actualitat/agenda/8881-raconet.html
CLASS:PUBLIC
END:VEVENT
END:VCALENDAR
